BEGIN:VCALENDAR
VERSION:2.0
PRODID:-//Stadtwache Amberg 1995 e. V. - ECPv6.15.20//NONSGML v1.0//EN
CALSCALE:GREGORIAN
METHOD:PUBLISH
X-WR-CALNAME:Stadtwache Amberg 1995 e. V.
X-ORIGINAL-URL:https://www.stadtwache-amberg.de
X-WR-CALDESC:Veranstaltungen für Stadtwache Amberg 1995 e. V.
REFRESH-INTERVAL;VALUE=DURATION:PT1H
X-Robots-Tag:noindex
X-PUBLISHED-TTL:PT1H
BEGIN:VTIMEZONE
TZID:Europe/Berlin
BEGIN:DAYLIGHT
TZOFFSETFROM:+0100
TZOFFSETTO:+0200
TZNAME:CEST
DTSTART:20250330T010000
END:DAYLIGHT
BEGIN:STANDARD
TZOFFSETFROM:+0200
TZOFFSETTO:+0100
TZNAME:CET
DTSTART:20251026T010000
END:STANDARD
BEGIN:DAYLIGHT
TZOFFSETFROM:+0100
TZOFFSETTO:+0200
TZNAME:CEST
DTSTART:20260329T010000
END:DAYLIGHT
BEGIN:STANDARD
TZOFFSETFROM:+0200
TZOFFSETTO:+0100
TZNAME:CET
DTSTART:20261025T010000
END:STANDARD
BEGIN:DAYLIGHT
TZOFFSETFROM:+0100
TZOFFSETTO:+0200
TZNAME:CEST
DTSTART:20270328T010000
END:DAYLIGHT
BEGIN:STANDARD
TZOFFSETFROM:+0200
TZOFFSETTO:+0100
TZNAME:CET
DTSTART:20271031T010000
END:STANDARD
END:VTIMEZONE
BEGIN:VEVENT
DTSTART;TZID=Europe/Berlin:20260426T100000
DTEND;TZID=Europe/Berlin:20260426T120000
DTSTAMP:20260424T114219
CREATED:20260415T085648Z
LAST-MODIFIED:20260422T073149Z
UID:872-1777197600-1777204800@www.stadtwache-amberg.de
SUMMARY:Begleitung zur Eröffnung der Prechtl-Ausstellung im Stadtmuseum
DESCRIPTION:Die Stadtwache Amberg begleitet die städtische Delegation zur Eröffnung der Prechtl-Ausstellung zum Stadtmuseum. Treffpunkt intern 10:00 Uhr am Tor; Veranstaltung: 10:30 Marktplatz
URL:https://www.stadtwache-amberg.de/event/begleitung-zur-eroeffnung-der-prechtl-ausstellung-im-stadtmuseum/
LOCATION:Amberger Marktplatz
END:VEVENT
BEGIN:VEVENT
DTSTART;TZID=Europe/Berlin:20260507T190000
DTEND;TZID=Europe/Berlin:20260507T200000
DTSTAMP:20260424T114219
CREATED:20260419T075136Z
LAST-MODIFIED:20260419T080922Z
UID:884-1778180400-1778184000@www.stadtwache-amberg.de
SUMMARY:Monatssitzung
DESCRIPTION:
URL:https://www.stadtwache-amberg.de/event/monatssitzung/
LOCATION:Wingershofer Tor\, Germany
END:VEVENT
BEGIN:VEVENT
DTSTART;VALUE=DATE:20260515
DTEND;VALUE=DATE:20260518
DTSTAMP:20260424T114219
CREATED:20260419T074954Z
LAST-MODIFIED:20260419T074954Z
UID:881-1778803200-1779062399@www.stadtwache-amberg.de
SUMMARY:Mittelalterlager zu Fensterbach
DESCRIPTION:Wir eröffnen die Lagersaison dieses Jahr in Fensterbach. Beim Mittelalterlager zu Fensterbach\, veranstaltet von der Hrafnin Sippe!
URL:https://www.stadtwache-amberg.de/event/mittelalterlager-zu-fensterbach/
LOCATION:Fensterbach\, Germany
END:VEVENT
BEGIN:VEVENT
DTSTART;TZID=Europe/Berlin:20260530T150000
DTEND;TZID=Europe/Berlin:20260530T160000
DTSTAMP:20260424T114219
CREATED:20260419T075329Z
LAST-MODIFIED:20260419T075329Z
UID:886-1780153200-1780156800@www.stadtwache-amberg.de
SUMMARY:Torführung
DESCRIPTION:Torführung\, Buchbar über Tourist Info Stadt Amberg
URL:https://www.stadtwache-amberg.de/event/torfuehrung/
LOCATION:Wingershofer Tor\, Germany
END:VEVENT
BEGIN:VEVENT
DTSTART;TZID=Europe/Berlin:20260611T190000
DTEND;TZID=Europe/Berlin:20260611T200000
DTSTAMP:20260424T114219
CREATED:20260419T075427Z
LAST-MODIFIED:20260419T080838Z
UID:888-1781204400-1781208000@www.stadtwache-amberg.de
SUMMARY:Monatssitzung
DESCRIPTION:
URL:https://www.stadtwache-amberg.de/event/monatssitzung-2/
LOCATION:Wingershofer Tor\, Germany
END:VEVENT
BEGIN:VEVENT
DTSTART;VALUE=DATE:20260612
DTEND;VALUE=DATE:20260613
DTSTAMP:20260424T114219
CREATED:20260419T075825Z
LAST-MODIFIED:20260419T075825Z
UID:890-1781222400-1781308799@www.stadtwache-amberg.de
SUMMARY:Eröffnung des Altstadtfests
DESCRIPTION:Treffpunkt im Wingershofer Tor\ndanach Marsch mit dem Oberbürgermeister\, Stadtrat und weiteren Würdentrträgern\, begleitet von den Stadtpfeiffern und Cantus Ferrum zum Marktplatz mit Eröffnung und Eröffnungsansprache durch den neuen OB Michael Fritz
URL:https://www.stadtwache-amberg.de/event/eroeffnung-des-altstadtfests/
LOCATION:Amberg
END:VEVENT
BEGIN:VEVENT
DTSTART;TZID=Europe/Berlin:20260613T150000
DTEND;TZID=Europe/Berlin:20260613T160000
DTSTAMP:20260424T114219
CREATED:20260419T075934Z
LAST-MODIFIED:20260419T075934Z
UID:892-1781362800-1781366400@www.stadtwache-amberg.de
SUMMARY:Torführung
DESCRIPTION:Buchbar über Tourist Info der Stadt Amberg
URL:https://www.stadtwache-amberg.de/event/torfuehrung-2/
END:VEVENT
BEGIN:VEVENT
DTSTART;TZID=Europe/Berlin:20260614T110000
DTEND;TZID=Europe/Berlin:20260614T170000
DTSTAMP:20260424T114219
CREATED:20260419T080146Z
LAST-MODIFIED:20260419T080146Z
UID:894-1781434800-1781456400@www.stadtwache-amberg.de
SUMMARY:Tag der offenen Tür
DESCRIPTION:Anlässlich des Altstadfestes ist das Wingershofer Tor für Euch geöffnet. Es gibt kostenlose Torführungen und der Salzstadel ist ebenfalls zur Besichtigung geöffnet. Lasst euch das nicht entgehen. (Uhrzeit noch nicht final)
URL:https://www.stadtwache-amberg.de/event/tag-der-offenen-tuer/
END:VEVENT
BEGIN:VEVENT
DTSTART;TZID=Europe/Berlin:20260702T190000
DTEND;TZID=Europe/Berlin:20260702T200000
DTSTAMP:20260424T114219
CREATED:20260419T080255Z
LAST-MODIFIED:20260419T080757Z
UID:896-1783018800-1783022400@www.stadtwache-amberg.de
SUMMARY:Monatssitzung
DESCRIPTION:
URL:https://www.stadtwache-amberg.de/event/monatssitzung-3/
LOCATION:Wingershofer Tor\, Germany
END:VEVENT
BEGIN:VEVENT
DTSTART;TZID=Europe/Berlin:20260704T150000
DTEND;TZID=Europe/Berlin:20260704T160000
DTSTAMP:20260424T114219
CREATED:20260419T080413Z
LAST-MODIFIED:20260419T080413Z
UID:898-1783177200-1783180800@www.stadtwache-amberg.de
SUMMARY:Torführung
DESCRIPTION:Buchbar über Tourist Info der Stadt Amberg
URL:https://www.stadtwache-amberg.de/event/torfuehrung-3/
LOCATION:Wingershofer Tor\, Germany
END:VEVENT
BEGIN:VEVENT
DTSTART;TZID=Europe/Berlin:20260711T130000
DTEND;TZID=Europe/Berlin:20260711T220000
DTSTAMP:20260424T114219
CREATED:20260419T080642Z
LAST-MODIFIED:20260419T080642Z
UID:900-1783774800-1783807200@www.stadtwache-amberg.de
SUMMARY:Workshop mit Open End - Vereinsintern -
DESCRIPTION:Thema des Workshops wird noch bekannt gegeben. Uhrzeit wird noch bekannt gegeben.
URL:https://www.stadtwache-amberg.de/event/workshop-mit-open-end-vereinsintern/
LOCATION:Wolfsbach\, Germany
END:VEVENT
BEGIN:VEVENT
DTSTART;TZID=Europe/Berlin:20260806T190000
DTEND;TZID=Europe/Berlin:20260806T200000
DTSTAMP:20260424T114219
CREATED:20260419T080729Z
LAST-MODIFIED:20260419T080729Z
UID:902-1786042800-1786046400@www.stadtwache-amberg.de
SUMMARY:Monatssitzung
DESCRIPTION:
URL:https://www.stadtwache-amberg.de/event/monatssitzung-4/
END:VEVENT
BEGIN:VEVENT
DTSTART;TZID=Europe/Berlin:20260829T150000
DTEND;TZID=Europe/Berlin:20260829T160000
DTSTAMP:20260424T114219
CREATED:20260419T081034Z
LAST-MODIFIED:20260419T081034Z
UID:904-1788015600-1788019200@www.stadtwache-amberg.de
SUMMARY:Torführung
DESCRIPTION:Buchbar über Tourist Info der Stadt Amberg
URL:https://www.stadtwache-amberg.de/event/torfuehrung-4/
LOCATION:Wingershofer Tor\, Germany
END:VEVENT
BEGIN:VEVENT
DTSTART;TZID=Europe/Berlin:20260903T190000
DTEND;TZID=Europe/Berlin:20260903T200000
DTSTAMP:20260424T114219
CREATED:20260419T081129Z
LAST-MODIFIED:20260419T081129Z
UID:906-1788462000-1788465600@www.stadtwache-amberg.de
SUMMARY:Monatssitzung
DESCRIPTION:
URL:https://www.stadtwache-amberg.de/event/monatssitzung-5/
END:VEVENT
BEGIN:VEVENT
DTSTART;VALUE=DATE:20260904
DTEND;VALUE=DATE:20260907
DTSTAMP:20260424T114219
CREATED:20260419T081339Z
LAST-MODIFIED:20260419T081339Z
UID:908-1788480000-1788739199@www.stadtwache-amberg.de
SUMMARY:Reichsstadt Festtage in Rothenburg
DESCRIPTION:Teilnahme an den Reichsstadt Festtagen der Stadt Rothenburg
URL:https://www.stadtwache-amberg.de/event/reichsstadt-festtage-in-rothenburg/
LOCATION:Rothenburg ob der Tauber
END:VEVENT
BEGIN:VEVENT
DTSTART;TZID=Europe/Berlin:20260926T150000
DTEND;TZID=Europe/Berlin:20260926T160000
DTSTAMP:20260424T114219
CREATED:20260419T081458Z
LAST-MODIFIED:20260419T081458Z
UID:911-1790434800-1790438400@www.stadtwache-amberg.de
SUMMARY:Torführung
DESCRIPTION:Buchbar über Tourist Info der Stadt Amberg
URL:https://www.stadtwache-amberg.de/event/torfuehrung-5/
LOCATION:Wingershofer Tor\, Germany
END:VEVENT
BEGIN:VEVENT
DTSTART;TZID=Europe/Berlin:20261002T190000
DTEND;TZID=Europe/Berlin:20261002T200000
DTSTAMP:20260424T114219
CREATED:20260419T081544Z
LAST-MODIFIED:20260419T081544Z
UID:913-1790967600-1790971200@www.stadtwache-amberg.de
SUMMARY:Monatssitzung
DESCRIPTION:
URL:https://www.stadtwache-amberg.de/event/monatssitzung-6/
END:VEVENT
BEGIN:VEVENT
DTSTART;TZID=Europe/Berlin:20261105T190000
DTEND;TZID=Europe/Berlin:20261105T200000
DTSTAMP:20260424T114219
CREATED:20260419T081636Z
LAST-MODIFIED:20260419T081636Z
UID:915-1793905200-1793908800@www.stadtwache-amberg.de
SUMMARY:Monatssitzung
DESCRIPTION:
URL:https://www.stadtwache-amberg.de/event/monatssitzung-7/
LOCATION:Wingershofer Tor\, Germany
END:VEVENT
BEGIN:VEVENT
DTSTART;VALUE=DATE:20261128
DTEND;VALUE=DATE:20261129
DTSTAMP:20260424T114219
CREATED:20260419T081808Z
LAST-MODIFIED:20260419T081808Z
UID:917-1795824000-1795910399@www.stadtwache-amberg.de
SUMMARY:Eröffnung des adventlichen Mittelaltermarktes zu Guteneck
DESCRIPTION:Genaue Uhrzeit wird noch bekanntgegeben
URL:https://www.stadtwache-amberg.de/event/eroeffnung-des-adventlichen-mittelaltermarktes-zu-guteneck/
END:VEVENT
BEGIN:VEVENT
DTSTART;TZID=Europe/Berlin:20261203T190000
DTEND;TZID=Europe/Berlin:20261203T200000
DTSTAMP:20260424T114219
CREATED:20260419T081849Z
LAST-MODIFIED:20260419T081849Z
UID:919-1796324400-1796328000@www.stadtwache-amberg.de
SUMMARY:Monatssitzung
DESCRIPTION:
URL:https://www.stadtwache-amberg.de/event/monatssitzung-8/
END:VEVENT
END:VCALENDAR